 BEGIN:VCALENDAR
VERSION:2.0
PRODID:-//Downtown Partnership of Baltimore - ECPv6.13.0//NONSGML v1.0//EN
CALSCALE:GREGORIAN
METHOD:PUBLISH
X-WR-CALNAME:Downtown Partnership of Baltimore
X-ORIGINAL-URL:https://godowntownbaltimore.com
X-WR-CALDESC:Events for Downtown Partnership of Baltimore
REFRESH-INTERVAL;VALUE=DURATION:PT1H
X-Robots-Tag:noindex
X-PUBLISHED-TTL:PT1H
BEGIN:VTIMEZONE
TZID:America/New_York
BEGIN:DAYLIGHT
TZOFFSETFROM:-0500
TZOFFSETTO:-0400
TZNAME:EDT
DTSTART:20260308T070000
END:DAYLIGHT
BEGIN:STANDARD
TZOFFSETFROM:-0400
TZOFFSETTO:-0500
TZNAME:EST
DTSTART:20261101T060000
END:STANDARD
END:VTIMEZONE
BEGIN:VEVENT
DTSTART;VALUE=DATE:20260309
DTEND;VALUE=DATE:20260321
DTSTAMP:20260423T122907
CREATED:20260309T152326Z
LAST-MODIFIED:20260312T170519Z
UID:10000803-1773014400-1774051199@godowntownbaltimore.com
SUMMARY:Pratt Street Market - Applications Open
DESCRIPTION:Bring your flavors\, creativity\, and small‑business talent to Downtown Baltimore this season. \n\nVendor applications for the 2026 Pratt Street Market are officially open!\nApply today to be part of a market that supports local entrepreneurs\, celebrates Baltimore culture\, and connects you with thousands of downtown workers and visitors all summer.\n\n\n\nAPPLY HERE
URL:https://godowntownbaltimore.com/event/pratt-street-market-applications-open/
ATTACH;FMTTYPE=image/png:https://godowntownbaltimore.com/wp-content/uploads/billboard-Pratt-Street-Mkt_1738x864_Page_1-1.png
END:VEVENT
BEGIN:VEVENT
DTSTART;TZID=America/New_York:20260311T110000
DTEND;TZID=America/New_York:20260311T120000
DTSTAMP:20260423T122907
CREATED:20260309T153002Z
LAST-MODIFIED:20260309T160913Z
UID:10000804-1773226800-1773230400@godowntownbaltimore.com
SUMMARY:Pratt Street Market - Information Session II
DESCRIPTION:2026 Vendor Info Session \n\nThinking about vending with us this season? Join our Info Session to learn how to apply\, what’s new for 2026\, and what to expect on market days.\nGet the details. Get your questions answered. Get ready to apply.
URL:https://godowntownbaltimore.com/event/pratt-street-market-information-session-ii/
END:VEVENT
END:VCALENDAR