 BEGIN:VCALENDAR
VERSION:2.0
PRODID:-//Downtown Partnership of Baltimore - ECPv6.13.0//NONSGML v1.0//EN
CALSCALE:GREGORIAN
METHOD:PUBLISH
X-WR-CALNAME:Downtown Partnership of Baltimore
X-ORIGINAL-URL:https://godowntownbaltimore.com
X-WR-CALDESC:Events for Downtown Partnership of Baltimore
REFRESH-INTERVAL;VALUE=DURATION:PT1H
X-Robots-Tag:noindex
X-PUBLISHED-TTL:PT1H
BEGIN:VTIMEZONE
TZID:America/New_York
BEGIN:DAYLIGHT
TZOFFSETFROM:-0500
TZOFFSETTO:-0400
TZNAME:EDT
DTSTART:20250309T070000
END:DAYLIGHT
BEGIN:STANDARD
TZOFFSETFROM:-0400
TZOFFSETTO:-0500
TZNAME:EST
DTSTART:20251102T060000
END:STANDARD
END:VTIMEZONE
BEGIN:VEVENT
DTSTART;VALUE=DATE:20250805
DTEND;VALUE=DATE:20250806
DTSTAMP:20260425T074133
CREATED:20250709T171036Z
LAST-MODIFIED:20250709T171036Z
UID:10000736-1754352000-1754438399@godowntownbaltimore.com
SUMMARY:National Night Out
DESCRIPTION:Mayor Brandon M. Scott is encouraging community groups across Baltimore to register their events for the City’s annual National Night Out (NNO) celebrations.
URL:https://godowntownbaltimore.com/event/national-night-out/
ATTACH;FMTTYPE=image/jpeg:https://godowntownbaltimore.com/wp-content/uploads/504368868_18053301899526199_5452092464744168396_n.jpg
END:VEVENT
BEGIN:VEVENT
DTSTART;TZID=America/New_York:20250807T110000
DTEND;TZID=America/New_York:20250807T140000
DTSTAMP:20260425T074133
CREATED:20250804T145727Z
LAST-MODIFIED:20250804T145816Z
UID:10000628-1754564400-1754575200@godowntownbaltimore.com
SUMMARY:Pratt Street Market
DESCRIPTION:The Pratt Street Market\, presented by PNC Bank returns to Pratt & Light Streets every Thursday\, May-October\, 2025.\n  \nPratt Street Market\, presented by PNC Bank provides Downtown Baltimore residents\, employees\, and visitors access to prepared lunch options\, products from local makers\, and services from outreach organizations on a weekly basis. This year\, the market will return to Pratt & Light Street Plaza (corner of Pratt and Light Streets)\, and will occur on Thursdays from 11 am – 2 pm\, running May – October\, beginning May 1\, 2025. \nParticipating Vendors\n\nAugust 7th \n\n3 Jay’s Seafood & Chicken\nFood Vendor\, Savory // Learn More\n410 Taste\nFood Vendor\, Savory// Learn More\nAlthea’s Almost Famous\nFood Vendor\, Savory // Learn More\nBmore Greek Grill\nFood Vendor\, Savory // Learn More\nBully Boss Burgers\nFood Vendor\, Savory // Learn More\nCorky’s Crabcakes\nFood Vendor\, Savory // Learn More\nDeli ish\nFood Vendor\, Savory // Learn More\n\n\nDMV Empanadas\nFood Vendor\, Savory// Learn More\nFishnet\nFood Vendor\, Savory // Learn More\nFrolic Lemonade\nDrink Vendor\, Lemonade // Learn More\nHoodFellas\nFood Vendor\, Savory // Learn More\nMaggie Maed It\nArtisan Vendor // Learn More\nMore Life Organic Juices\nDrink Vendor // Learn More\nNothing Bundt Cake\nFood Vendor\, Sweets // Learn More\nPNC\nOutreach Vendor\, Sponsor// Learn More\nSister Sweets\nFood Vendor\, Sweets // Learn More\nSomethang Delicious\nFood Vendor\, Savory // Learn More\nSulit Candle\nArtisan Vendor\, Candles // Learn More\nTaco Loco\nFood Vendor\, Savory // Learn More
URL:https://godowntownbaltimore.com/event/psm-2025-5-3-2-2-2-2-2-2-2/
CATEGORIES:Pratt Street Market
ATTACH;FMTTYPE=image/jpeg:https://godowntownbaltimore.com/wp-content/uploads/PrattStMkt_1920x1080-1.jpg
END:VEVENT
BEGIN:VEVENT
DTSTART;TZID=America/New_York:20250807T170000
DTEND;TZID=America/New_York:20250807T220000
DTSTAMP:20260425T074133
CREATED:20250505T151852Z
LAST-MODIFIED:20250505T152437Z
UID:10000612-1754586000-1754604000@godowntownbaltimore.com
SUMMARY:Jazzy Summer Nights
DESCRIPTION:Jazzy Summer Nights is a monthly mid-week concert series (May –October) that features national and regional artists\, food trucks\, sponsor activations\, VIP sections and tables\, and cigar and hookah lounges. Jazzy Summer Nights has become the signature summer destination event for the Mid-Atlantic Region. \nIn 2025\, Jazzy Summer Nights will celebrate the 25th anniversary and the final season of this historic Baltimore event activation. Jazzy Summer Nights will be at its original location of Hopkins Plaza and conclude the series with a special concert in front of Baltimore’s City Hall. \nJazzy Summer Nights will feature Kindred the Family Soul\, Raheem DeVaugn\, Go Go Museum All-Stars\, Lady Alma Live\, DJ Quicksilva\, Dru Hill and more. \nDates include: \n\nMay 1\nJune 5\nJuly 3\nAugust 7\nSeptember 4\nOctober 2
URL:https://godowntownbaltimore.com/event/jazzy-summer-nights-2/2025-08-07/
CATEGORIES:Concerts,Park
ATTACH;FMTTYPE=image/jpeg:https://godowntownbaltimore.com/wp-content/uploads/IKE-Kiosk_Horizintal-1920x1080px.jpg
END:VEVENT
BEGIN:VEVENT
DTSTART;VALUE=DATE:20250809
DTEND;VALUE=DATE:20250810
DTSTAMP:20260425T074133
CREATED:20250721T142232Z
LAST-MODIFIED:20250721T142232Z
UID:10000746-1754697600-1754783999@godowntownbaltimore.com
SUMMARY:Set Sail for School @ Port Discovery
DESCRIPTION:Our annual Set Sail for School event brings the Baltimore community together to support this transitional time for children and promote their love of learning and play. Learn more here.
URL:https://godowntownbaltimore.com/event/set-sail-for-school/
ATTACH;FMTTYPE=image/jpeg:https://godowntownbaltimore.com/wp-content/uploads/Port-Discovery-Pajama-Show-Dec-22nd-2019DSC_2489-Coyle-Studios-580x580-1.jpg
END:VEVENT
END:VCALENDAR