 BEGIN:VCALENDAR
VERSION:2.0
PRODID:-//Downtown Partnership of Baltimore - ECPv6.13.0//NONSGML v1.0//EN
CALSCALE:GREGORIAN
METHOD:PUBLISH
X-ORIGINAL-URL:https://godowntownbaltimore.com
X-WR-CALDESC:Events for Downtown Partnership of Baltimore
REFRESH-INTERVAL;VALUE=DURATION:PT1H
X-Robots-Tag:noindex
X-PUBLISHED-TTL:PT1H
BEGIN:VTIMEZONE
TZID:America/New_York
BEGIN:DAYLIGHT
TZOFFSETFROM:-0500
TZOFFSETTO:-0400
TZNAME:EDT
DTSTART:20250309T070000
END:DAYLIGHT
BEGIN:STANDARD
TZOFFSETFROM:-0400
TZOFFSETTO:-0500
TZNAME:EST
DTSTART:20251102T060000
END:STANDARD
END:VTIMEZONE
BEGIN:VEVENT
DTSTART;TZID=America/New_York:20250619T110000
DTEND;TZID=America/New_York:20250619T180000
DTSTAMP:20260425T102726
CREATED:20250612T152809Z
LAST-MODIFIED:20250612T152809Z
UID:10000722-1750330800-1750356000@godowntownbaltimore.com
SUMMARY:Juneteenth Jubilee
DESCRIPTION:Join us for a full day of powerful performances\, inspiring conversations\, interactive art\, delicious food\, and joyful experiences rooted in the richness of African American culture. Learn more here. 
URL:https://godowntownbaltimore.com/event/juneteenth-2/
CATEGORIES:Cultural,Holiday
ATTACH;FMTTYPE=image/png:https://godowntownbaltimore.com/wp-content/uploads/Flyer_1080x1350-02-scaled-1.png
END:VEVENT
BEGIN:VEVENT
DTSTART;TZID=America/New_York:20250619T180000
DTEND;TZID=America/New_York:20250619T230000
DTSTAMP:20260425T102726
CREATED:20250612T152404Z
LAST-MODIFIED:20250612T154410Z
UID:10000721-1750356000-1750374000@godowntownbaltimore.com
SUMMARY:Juneteenth Rooftop Party @ Lord Baltimore Hotel
DESCRIPTION:Join us on Wednesday\, June 19th from 6PM–11PM for the first rooftop party of the season—a bold\, beautiful Juneteenth celebration under the open sky\, high above the streets of downtown Baltimore. Get your tickets here. 
URL:https://godowntownbaltimore.com/event/juneteenth/
CATEGORIES:Cultural,Holiday
ATTACH;FMTTYPE=image/png:https://godowntownbaltimore.com/wp-content/uploads/Screenshot-2025-06-12-at-11.36.39 AM.png
END:VEVENT
BEGIN:VEVENT
DTSTART;VALUE=DATE:20250621
DTEND;VALUE=DATE:20250622
DTSTAMP:20260425T102726
CREATED:20250612T150638Z
LAST-MODIFIED:20250612T151108Z
UID:10000719-1750464000-1750550399@godowntownbaltimore.com
SUMMARY:Harbor Splash
DESCRIPTION:Harbor Splash is an organized jump into the Baltimore Harbor on June 21\, 2025\, at Bond Street Wharf in Fells Point. Spots for swimmers are limited; sign up for the mailing list to get the registration link as soon as it opens! Harbor Splash Info!
URL:https://godowntownbaltimore.com/event/harbor-splash/
CATEGORIES:Fitness
ATTACH;FMTTYPE=image/png:https://godowntownbaltimore.com/wp-content/uploads/Screenshot-2025-06-12-at-11.04.47 AM.png
END:VEVENT
BEGIN:VEVENT
DTSTART;VALUE=DATE:20250621
DTEND;VALUE=DATE:20250623
DTSTAMP:20260425T102726
CREATED:20250612T153134Z
LAST-MODIFIED:20250612T153134Z
UID:10000723-1750464000-1750636799@godowntownbaltimore.com
SUMMARY:AFRAM
DESCRIPTION:Meet us at AFRAM—one of the largest African American festivals on the East Coast! Hosted in Baltimore City’s Druid Hill Park\, this 745-acre urban oasis draws crowds of over 150\,000 each day of the festival. For two days\, people from all walks of life come together to enjoy national entertainment\, local eats\, and much more. Learn more here. 
URL:https://godowntownbaltimore.com/event/afram/
CATEGORIES:Cultural,Park
ATTACH;FMTTYPE=image/png:https://godowntownbaltimore.com/wp-content/uploads/Screenshot-2025-06-12-at-11.30.25 AM.png
END:VEVENT
BEGIN:VEVENT
DTSTART;TZID=America/New_York:20250622T120000
DTEND;TZID=America/New_York:20250622T160000
DTSTAMP:20260425T102726
CREATED:20250613T185532Z
LAST-MODIFIED:20250613T185532Z
UID:10000724-1750593600-1750608000@godowntownbaltimore.com
SUMMARY:FIREMAN SERIES LAUNCH PARTY
DESCRIPTION:We’re thrilled to announce the launch of our new GHB Fireman Series – Italian Pale Lager\, a special partnership with the Baltimore City Fire Department. This isn’t just about great beer – it’s about giving back to the brave men and women who serve our city every day. Learn more here. 
URL:https://godowntownbaltimore.com/event/fireman-series-launch-party/
ATTACH;FMTTYPE=image/png:https://godowntownbaltimore.com/wp-content/uploads/96e349_937064ea8b124204816782aa664ba394mv2-copy.png
END:VEVENT
BEGIN:VEVENT
DTSTART;TZID=America/New_York:20250622T130000
DTEND;TZID=America/New_York:20250622T180000
DTSTAMP:20260425T102726
CREATED:20250612T151914Z
LAST-MODIFIED:20250612T151914Z
UID:10000720-1750597200-1750615200@godowntownbaltimore.com
SUMMARY:American Cancer Society: Taste for Life
DESCRIPTION:Join us on Sunday\, June 22nd at The Center Club in Baltimore for Taste for Life – as we raise a glass and rally together to end cancer as we know it\, for everyone. Enjoy live music by Brencore Allstars\, gourmet tastings\, fine wines\, be amazed by Baltimore’s amazing magician\, William Gross\, plus bid on fantastic items in our silent auction. Let’s toast to progress\, to loved ones\, and to a future without cancer. Learn more here. 
URL:https://godowntownbaltimore.com/event/american-cancer-society-taste-for-life/
ATTACH;FMTTYPE=image/jpeg:https://godowntownbaltimore.com/wp-content/uploads/Taste-Wine-Glasses-for-wp-scaled-1.jpg
END:VEVENT
END:VCALENDAR