 BEGIN:VCALENDAR
VERSION:2.0
PRODID:-//Downtown Partnership of Baltimore - ECPv6.13.0//NONSGML v1.0//EN
CALSCALE:GREGORIAN
METHOD:PUBLISH
X-ORIGINAL-URL:https://godowntownbaltimore.com
X-WR-CALDESC:Events for Downtown Partnership of Baltimore
REFRESH-INTERVAL;VALUE=DURATION:PT1H
X-Robots-Tag:noindex
X-PUBLISHED-TTL:PT1H
BEGIN:VTIMEZONE
TZID:America/New_York
BEGIN:DAYLIGHT
TZOFFSETFROM:-0500
TZOFFSETTO:-0400
TZNAME:EDT
DTSTART:20240310T070000
END:DAYLIGHT
BEGIN:STANDARD
TZOFFSETFROM:-0400
TZOFFSETTO:-0500
TZNAME:EST
DTSTART:20241103T060000
END:STANDARD
END:VTIMEZONE
BEGIN:VEVENT
DTSTART;TZID=America/New_York:20240628T170000
DTEND;TZID=America/New_York:20240628T200000
DTSTAMP:20260422T161251
CREATED:20240617T165450Z
LAST-MODIFIED:20240617T170745Z
UID:10000584-1719594000-1719604800@godowntownbaltimore.com
SUMMARY:Friday Nights Live
DESCRIPTION:Every fourth Friday\, enjoy live music\, drinks\, and a rotating lineup of food and artisan vendors in Downtown’s Center Plaza for Friday Nights Live.\nSponsored by Guilford Hall Brewery\, enjoy a free outdoor concert with summertime sounds from The Vibe\, drinks from Chase It Bartenders\, and complimentary beer from Guilford Hall while supplies last. In addition to the music\, a variety of food and artisan vendors will be on site offering delectable bites and goodies you can take home with you. While some tables and chairs will be available\, we recommend bringing a blanket\, getting cozy\, and making the evening your own. \nJUNE LINEUP\n\nThe Vibe // Live Music\nChase It Bartenders // Drinks\nVegan Juiceology // Food\nCharm City Crabs // Food\nSerene Adornments // Artisan\nMoes Retro Eyes // Artisan\nAnkh Queens Crafts & Gems // Artisan\n\n\nWHEN \nFriday\, June 28 // Friday\, July 26 // Friday\, August 23 // Friday\, September 27\nAlways 5-8PM \nWHERE \nCenter Plaza: One Charles Center\, 100 N Charles St\, Baltimore\, MD 21201
URL:https://godowntownbaltimore.com/event/friday-nights-live-2/
CATEGORIES:Concerts,Park
ATTACH;FMTTYPE=image/jpeg:https://godowntownbaltimore.com/wp-content/uploads/FNL-2024-JUNE-1920x1080-rev.jpg
END:VEVENT
END:VCALENDAR