 BEGIN:VCALENDAR
VERSION:2.0
PRODID:-//Downtown Partnership of Baltimore - ECPv6.13.0//NONSGML v1.0//EN
CALSCALE:GREGORIAN
METHOD:PUBLISH
X-WR-CALNAME:Downtown Partnership of Baltimore
X-ORIGINAL-URL:https://godowntownbaltimore.com
X-WR-CALDESC:Events for Downtown Partnership of Baltimore
REFRESH-INTERVAL;VALUE=DURATION:PT1H
X-Robots-Tag:noindex
X-PUBLISHED-TTL:PT1H
BEGIN:VTIMEZONE
TZID:America/New_York
BEGIN:DAYLIGHT
TZOFFSETFROM:-0500
TZOFFSETTO:-0400
TZNAME:EDT
DTSTART:20240310T070000
END:DAYLIGHT
BEGIN:STANDARD
TZOFFSETFROM:-0400
TZOFFSETTO:-0500
TZNAME:EST
DTSTART:20241103T060000
END:STANDARD
END:VTIMEZONE
BEGIN:VEVENT
DTSTART;TZID=America/New_York:20240608T090000
DTEND;TZID=America/New_York:20240608T200000
DTSTAMP:20260422T160931
CREATED:20240426T145908Z
LAST-MODIFIED:20240426T145951Z
UID:10000578-1717837200-1717876800@godowntownbaltimore.com
SUMMARY:Charles Street Promenade
DESCRIPTION:Saturday\, June 8\, 2024 • @ Historic Charles Street\nExperience the popular Charles Street Promenade Pedestrian Takeover on June 8\, 2024. This event transforms the Historic Charles Street thoroughfare into a pedestrian-friendly zone\, featuring street-front activations\, musical performances\, and more. Shop\, stroll\, and dine along Charles Street\, which will be closed to vehicular traffic from Saratoga Street to North Avenue. Bring your bike\, your baby\, your dog—whatever you like!
URL:https://godowntownbaltimore.com/event/csp-24/
CATEGORIES:Cultural,Dog-Friendly,Resident
ATTACH;FMTTYPE=image/jpeg:https://godowntownbaltimore.com/wp-content/uploads/csp-banner-1.jpg
END:VEVENT
END:VCALENDAR